BEGIN:VCALENDAR
VERSION:2.0
PRODID:-//Boxclub Kandel - ECPv6.10.1.1//NONSGML v1.0//EN
CALSCALE:GREGORIAN
METHOD:PUBLISH
X-ORIGINAL-URL:https://www.boxclub-kandel.de
X-WR-CALDESC:Veranstaltungen für Boxclub Kandel
REFRESH-INTERVAL;VALUE=DURATION:PT1H
X-Robots-Tag:noindex
X-PUBLISHED-TTL:PT1H
BEGIN:VTIMEZONE
TZID:Europe/Berlin
BEGIN:DAYLIGHT
TZOFFSETFROM:+0100
TZOFFSETTO:+0200
TZNAME:CEST
DTSTART:20190331T010000
END:DAYLIGHT
BEGIN:STANDARD
TZOFFSETFROM:+0200
TZOFFSETTO:+0100
TZNAME:CET
DTSTART:20191027T010000
END:STANDARD
BEGIN:DAYLIGHT
TZOFFSETFROM:+0100
TZOFFSETTO:+0200
TZNAME:CEST
DTSTART:20200329T010000
END:DAYLIGHT
BEGIN:STANDARD
TZOFFSETFROM:+0200
TZOFFSETTO:+0100
TZNAME:CET
DTSTART:20201025T010000
END:STANDARD
BEGIN:DAYLIGHT
TZOFFSETFROM:+0100
TZOFFSETTO:+0200
TZNAME:CEST
DTSTART:20210328T010000
END:DAYLIGHT
BEGIN:STANDARD
TZOFFSETFROM:+0200
TZOFFSETTO:+0100
TZNAME:CET
DTSTART:20211031T010000
END:STANDARD
BEGIN:DAYLIGHT
TZOFFSETFROM:+0100
TZOFFSETTO:+0200
TZNAME:CEST
DTSTART:20220327T010000
END:DAYLIGHT
BEGIN:STANDARD
TZOFFSETFROM:+0200
TZOFFSETTO:+0100
TZNAME:CET
DTSTART:20221030T010000
END:STANDARD
BEGIN:DAYLIGHT
TZOFFSETFROM:+0100
TZOFFSETTO:+0200
TZNAME:CEST
DTSTART:20230326T010000
END:DAYLIGHT
BEGIN:STANDARD
TZOFFSETFROM:+0200
TZOFFSETTO:+0100
TZNAME:CET
DTSTART:20231029T010000
END:STANDARD
BEGIN:DAYLIGHT
TZOFFSETFROM:+0100
TZOFFSETTO:+0200
TZNAME:CEST
DTSTART:20240331T010000
END:DAYLIGHT
BEGIN:STANDARD
TZOFFSETFROM:+0200
TZOFFSETTO:+0100
TZNAME:CET
DTSTART:20241027T010000
END:STANDARD
END:VTIMEZONE
BEGIN:VEVENT
DTSTART;TZID=Europe/Berlin:20240427T180000
DTEND;TZID=Europe/Berlin:20240427T233000
DTSTAMP:20260419T173019
CREATED:20240318T085039Z
LAST-MODIFIED:20240318T085039Z
UID:997-1714240800-1714260600@www.boxclub-kandel.de
SUMMARY:Boxgala 2024 am 27.04.24
DESCRIPTION:
URL:https://www.boxclub-kandel.de/event/boxgala-2024-am-27-04-24/
LOCATION:Bienwaldhalle Kandel\, Schubertstraße 7\, Kandel\, Rheinland-Pfalz\, 76870
END:VEVENT
BEGIN:VEVENT
DTSTART;TZID=Europe/Berlin:20210805T180000
DTEND;TZID=Europe/Berlin:20210805T220000
DTSTAMP:20260419T173019
CREATED:20210708T071636Z
LAST-MODIFIED:20210708T071703Z
UID:808-1628186400-1628200800@www.boxclub-kandel.de
SUMMARY:Internes Vereinsfest Dampfnudelessen im Weingut Bitzel
DESCRIPTION:Dampfnudelessen im Weingut Bitzel
URL:https://www.boxclub-kandel.de/event/internes-vereinsfest/
LOCATION:Rheinland-Pfalz
END:VEVENT
BEGIN:VEVENT
DTSTART;TZID=Europe/Berlin:20201008T170000
DTEND;TZID=Europe/Berlin:20201008T210000
DTSTAMP:20260419T173019
CREATED:20201003T122258Z
LAST-MODIFIED:20201003T122740Z
UID:767-1602176400-1602190800@www.boxclub-kandel.de
SUMMARY:Oktober-Dampfnudel-Fest
DESCRIPTION:
URL:https://www.boxclub-kandel.de/event/oktober-dampfnudel-fest/
LOCATION:Weingut Bitzel\, Hauptstraße 66\, Winden
END:VEVENT
BEGIN:VEVENT
DTSTART;TZID=Europe/Berlin:20190702T190000
DTEND;TZID=Europe/Berlin:20190702T220000
DTSTAMP:20260419T173019
CREATED:20190701T185328Z
LAST-MODIFIED:20190701T185328Z
UID:437-1562094000-1562104800@www.boxclub-kandel.de
SUMMARY:Hauptversammlung
DESCRIPTION:
URL:https://www.boxclub-kandel.de/event/hauptversammlung/
LOCATION:Klosterhof Minderslachen
END:VEVENT
BEGIN:VEVENT
DTSTART;TZID=Europe/Berlin:20190413T190000
DTEND;TZID=Europe/Berlin:20190413T200000
DTSTAMP:20260419T173019
CREATED:20190224T220500Z
LAST-MODIFIED:20190224T220500Z
UID:59-1555182000-1555185600@www.boxclub-kandel.de
SUMMARY:Box-Gala
DESCRIPTION:
URL:https://www.boxclub-kandel.de/event/box-gala/
LOCATION:Bienwaldhalle Kandel\, Schubertstraße 7\, Kandel\, Rheinland-Pfalz\, 76870
CATEGORIES:Events
ATTACH;FMTTYPE=image/jpeg:https://www.boxclub-kandel.de/wp-content/uploads/2019/02/Boxgala-2019.jpg
END:VEVENT
END:VCALENDAR